BEGIN:VCALENDAR
VERSION:2.0
PRODID:-//Antoine Ouvrard - ECPv4.1.3//NONSGML v1.0//EN
CALSCALE:GREGORIAN
METHOD:PUBLISH
X-WR-CALNAME:Antoine Ouvrard
X-ORIGINAL-URL:https://ouvrardantoine.fr/en
X-WR-CALDESC:Events for Antoine Ouvrard
BEGIN:VEVENT
DTSTART;TZID=UTC+1:20160625T210000
DTEND;TZID=UTC+1:20160625T210000
DTSTAMP:20260422T011000
CREATED:20160609T233353
LAST-MODIFIED:20160609T233533
UID:354-1466888400-1466888400@ouvrardantoine.fr
SUMMARY:"Belles de nuit" : Irma la douce
DESCRIPTION:Breffort/Monnot : Irma la douce\n\nCompagnie Temporalia
URL:https://ouvrardantoine.fr/en/event/belles-de-nuit-irma-douce/
LOCATION:31 rue Peclet\, Paris\, 75015\, France
END:VEVENT
END:VCALENDAR