BEGIN:VCALENDAR
VERSION:2.0
PRODID:-//Antoine Ouvrard - ECPv4.1.3//NONSGML v1.0//EN
CALSCALE:GREGORIAN
METHOD:PUBLISH
X-WR-CALNAME:Antoine Ouvrard
X-ORIGINAL-URL:https://ouvrardantoine.fr/en
X-WR-CALDESC:Events for Antoine Ouvrard
BEGIN:VEVENT
DTSTART;TZID=UTC+1:20180115T200000
DTEND;TZID=UTC+1:20180115T200000
DTSTAMP:20260421T142932
CREATED:20170730T080930
LAST-MODIFIED:20170906T171353
UID:551-1516046400-1516046400@ouvrardantoine.fr
SUMMARY:Between tides : contemporary works for piano trio
DESCRIPTION:Takemitsu : Between tides\nCarter : Epigrams\nPesson : Ne pas oublier coq rouge dans jour craquelé\nFauré : Trio op. 120\n\nRachel Koblyakov : violin\nRaphaël Unger : cello\nAntoine Ouvrard : piano
URL:https://ouvrardantoine.fr/en/event/between-tides-pieces-contemporaines-en-trio/
LOCATION:1-3\, rue Michel Ney\, Nancy\, Meurthe-et-Moselle\, 54000\, France
END:VEVENT
END:VCALENDAR