BEGIN:VCALENDAR
VERSION:2.0
PRODID:-//Antoine Ouvrard - ECPv4.1.3//NONSGML v1.0//EN
CALSCALE:GREGORIAN
METHOD:PUBLISH
X-WR-CALNAME:Antoine Ouvrard
X-ORIGINAL-URL:https://ouvrardantoine.fr/en
X-WR-CALDESC:Events for Antoine Ouvrard
BEGIN:VEVENT
DTSTART;TZID=UTC+1:20180420T200000
DTEND;TZID=UTC+1:20180420T200000
DTSTAMP:20260421T092828
CREATED:20180325T174527
LAST-MODIFIED:20180325T174527
UID:662-1524254400-1524254400@ouvrardantoine.fr
SUMMARY:Women chorus and piano
DESCRIPTION:Pieces by Fauré\, Franck\, Rossini\, Rachmaninov\, Berlioz\, Poulenc\, Lutoslawski...\n\nA Tre Voci\nConductor : Katherine Durouchoux\nPiano : Antoine Ouvrard
URL:https://ouvrardantoine.fr/en/event/choeur-de-femmes-et-piano-2/
LOCATION:Florianska 3\, Varsovie\, 00-001\, Pologne
END:VEVENT
END:VCALENDAR