BEGIN:VCALENDAR
VERSION:2.0
PRODID:-//Antoine Ouvrard - ECPv4.1.3//NONSGML v1.0//EN
CALSCALE:GREGORIAN
METHOD:PUBLISH
X-WR-CALNAME:Antoine Ouvrard
X-ORIGINAL-URL:https://ouvrardantoine.fr/en
X-WR-CALDESC:Events for Antoine Ouvrard
BEGIN:VEVENT
DTSTART;TZID=UTC+1:20160524T203000
DTEND;TZID=UTC+1:20160524T203000
DTSTAMP:20260422T011126
CREATED:20160403T160928
LAST-MODIFIED:20160525T204402
UID:79-1464121800-1464121800@ouvrardantoine.fr
SUMMARY:Concert by Ensemble Apollon : french chamber music
DESCRIPTION:Poulenc : Flute Sonata\nPierné : Violin Sonata op. 36\nLeroux : PPP\, for flute and piano\nFauré-Weis : Pavane\n\nViolin : Rachel Koblyakov\n Flute : Lara Luxcey\n Piano : Antoine Ouvrard
URL:https://ouvrardantoine.fr/en/event/concert-de-lensemble-apollon/
LOCATION:58 rue Madame\, Paris\, 75006\, France
END:VEVENT
END:VCALENDAR