BEGIN:VCALENDAR
VERSION:2.0
PRODID:-//Antoine Ouvrard - ECPv4.1.3//NONSGML v1.0//EN
CALSCALE:GREGORIAN
METHOD:PUBLISH
X-WR-CALNAME:Antoine Ouvrard
X-ORIGINAL-URL:https://ouvrardantoine.fr/en
X-WR-CALDESC:Events for Antoine Ouvrard
BEGIN:VEVENT
DTSTART;TZID=UTC+1:20161014T203000
DTEND;TZID=UTC+1:20161014T203000
DTSTAMP:20260422T011000
CREATED:20160403T162631
LAST-MODIFIED:20161209T223233
UID:88-1476477000-1476477000@ouvrardantoine.fr
SUMMARY:Laon Festival : around "Sur Incises"
DESCRIPTION:Bartok : Sonata for 2 pianos and percussions\nStravinsky : Concerto for 2 pianos\nBoulez : Sur Incises\, for 3 pianos\, 3 harps\, 3 percussions\n\nConductor : Bruno Mantovani
URL:https://ouvrardantoine.fr/en/event/concert-en-ensemble-2/
LOCATION:9 allée Claude Debussy\, Soissons\, Aisne\, 02220\, France
END:VEVENT
END:VCALENDAR