BEGIN:VCALENDAR
VERSION:2.0
PRODID:-//Antoine Ouvrard - ECPv4.1.3//NONSGML v1.0//EN
CALSCALE:GREGORIAN
METHOD:PUBLISH
X-WR-CALNAME:Antoine Ouvrard
X-ORIGINAL-URL:https://ouvrardantoine.fr/en
X-WR-CALDESC:Events for Antoine Ouvrard
BEGIN:VEVENT
DTSTART;TZID=UTC+1:20160106T190000
DTEND;TZID=UTC+1:20160106T190000
DTSTAMP:20260422T065617
CREATED:20160328T131237
LAST-MODIFIED:20160512T224417
UID:24-1452106800-1452106800@ouvrardantoine.fr
SUMMARY:Concert by Ensemble InterContemporain : new pieces by young composers
DESCRIPTION:New pieces by students in composition at Paris Conservatory
URL:https://ouvrardantoine.fr/en/event/english-concert-de-lensemble-intercontemporain/
LOCATION:209 avenue Jean Jaurès\, Paris\, 75019\, France
END:VEVENT
END:VCALENDAR