BEGIN:VCALENDAR
VERSION:2.0
PRODID:-//Antoine Ouvrard - ECPv4.1.3//NONSGML v1.0//EN
CALSCALE:GREGORIAN
METHOD:PUBLISH
X-WR-CALNAME:Antoine Ouvrard
X-ORIGINAL-URL:https://ouvrardantoine.fr/en
X-WR-CALDESC:Events for Antoine Ouvrard
BEGIN:VEVENT
DTSTART;TZID=UTC+1:20171202T200000
DTEND;TZID=UTC+1:20171202T200000
DTSTAMP:20260421T155724
CREATED:20170524T225837
LAST-MODIFIED:20171124T225017
UID:529-1512244800-1512244800@ouvrardantoine.fr
SUMMARY:Ensemble Atmusica : George Crumb concert
DESCRIPTION:Crumb : Eine kleine Mitternacht Musik (Ruminations on Round Midnight by Thelonius Monk)\, for piano\nCrumb : Vox Balaenae\, for flute\, cello and piano\nCrumb : Apparition (Elegiac songs and vocalises)\, for soprano and piano\n\nMathilde Barthélémy : soprano\nJean-Pierre Pinet : flute\nDelphine Biron : cello\nAntoine Ouvrard : piano
URL:https://ouvrardantoine.fr/en/event/ensemble-atmusica-concert-george-crumb/
LOCATION:12\, rue Léonard de Vinci\, Tours\, Indre-et-Loire\, 37000\, France
END:VEVENT
END:VCALENDAR