BEGIN:VCALENDAR
VERSION:2.0
PRODID:-//Antoine Ouvrard - ECPv4.1.3//NONSGML v1.0//EN
CALSCALE:GREGORIAN
METHOD:PUBLISH
X-WR-CALNAME:Antoine Ouvrard
X-ORIGINAL-URL:https://ouvrardantoine.fr/en
X-WR-CALDESC:Events for Antoine Ouvrard
BEGIN:VEVENT
DTSTART;TZID=UTC+1:20160923T203000
DTEND;TZID=UTC+1:20160923T203000
DTSTAMP:20260421T214125
CREATED:20160706T150507
LAST-MODIFIED:20160906T191537
UID:362-1474662600-1474662600@ouvrardantoine.fr
SUMMARY:Ensemble Atmusica : Tribute to Pierre Boulez (dress rehearsal)
DESCRIPTION:Boulez : Le Marteau sans maître\, for alto voice and ensemble\nBoulez : Notations\, for piano\nBoulez : Improvisations sur Mallarmé\, for soprano and ensemble\n\nConductor : Dylan Corlay
URL:https://ouvrardantoine.fr/en/event/ensemble-atmusica-tribute-to-pierre-boulez/
LOCATION:12\, rue Léonard de Vinci\, Tours\, Indre-et-Loire\, 37000\, France
END:VEVENT
END:VCALENDAR