BEGIN:VCALENDAR
VERSION:2.0
PRODID:-//Antoine Ouvrard - ECPv4.1.3//NONSGML v1.0//EN
CALSCALE:GREGORIAN
METHOD:PUBLISH
X-WR-CALNAME:Antoine Ouvrard
X-ORIGINAL-URL:https://ouvrardantoine.fr/en
X-WR-CALDESC:Events for Antoine Ouvrard
BEGIN:VEVENT
DTSTART;TZID=UTC+1:20160904T170000
DTEND;TZID=UTC+1:20160904T170000
DTSTAMP:20260421T212551
CREATED:20160816T103613
LAST-MODIFIED:20160818T212351
UID:372-1473008400-1473008400@ouvrardantoine.fr
SUMMARY:Ensemble Cartésixte : Tribute to Dutilleux and Bonnefoy
DESCRIPTION:Fauré : Sicilienne (extract from Pelléas et Mélisande)\nDebussy : Prelude to the afternoon of a faun\, The submerged cathedral\, Rhapsody for clarinet and piano\nRavel : The fairy garden\nPoulenc : L'embarquement pour Cythère\, Pray for peace\nDutilleux : Au gré des ondes (extracts)\, Three stanzas on the name Sacher\n\nPoèmes d'Yves Bonnefoy\n\nDirection : Simon Proust 
URL:https://ouvrardantoine.fr/en/event/ensemble-cartesixte/
LOCATION:Rue Saint Martin\, Candes Saint Martin\, Indre-et-Loire\, 37500\, France
END:VEVENT
END:VCALENDAR