BEGIN:VCALENDAR
VERSION:2.0
PRODID:-//Antoine Ouvrard - ECPv4.1.3//NONSGML v1.0//EN
CALSCALE:GREGORIAN
METHOD:PUBLISH
X-WR-CALNAME:Antoine Ouvrard
X-ORIGINAL-URL:https://ouvrardantoine.fr/en
X-WR-CALDESC:Events for Antoine Ouvrard
BEGIN:VEVENT
DTSTART;TZID=UTC+1:20170705T150000
DTEND;TZID=UTC+1:20170705T150000
DTSTAMP:20260421T213210
CREATED:20170514T210149
LAST-MODIFIED:20170628T074423
UID:516-1499266800-1499266800@ouvrardantoine.fr
SUMMARY:Festival de la correspondance de Grignan : "Chères familles..."
DESCRIPTION:Concert-lecture : Mais le tigre est déjà dans l'escalier\nafter Sylvia Plath : "Letters home" \n\nAnne Jeanvoine : actress\nAgathe de Courcy : mezzo\nAntoine Ouvrard : piano\nSigrid Carré-Lecoindre : staging
URL:https://ouvrardantoine.fr/en/event/festival-de-la-correspondance-de-grignan-cheres-familles/
LOCATION:1\, rue Saint-Sauveur\, Grignan\, Drôme\, 26230\, France
ORGANIZER;CN="Festival%20de%20la%20correspondance%20de%20Grignan":MAILTO:festivalcorrespondance@wanadoo.fr
END:VEVENT
END:VCALENDAR