BEGIN:VCALENDAR
VERSION:2.0
PRODID:-//Antoine Ouvrard - ECPv4.1.3//NONSGML v1.0//EN
CALSCALE:GREGORIAN
METHOD:PUBLISH
X-WR-CALNAME:Antoine Ouvrard
X-ORIGINAL-URL:https://ouvrardantoine.fr/en
X-WR-CALDESC:Events for Antoine Ouvrard
BEGIN:VEVENT
DTSTART;TZID=UTC+1:20170512T204500
DTEND;TZID=UTC+1:20170512T204500
DTSTAMP:20260422T014812
CREATED:20170217T181437
LAST-MODIFIED:20170330T060815
UID:482-1494621900-1494621900@ouvrardantoine.fr
SUMMARY:Festival Tautavel en Musique : Haydn\, Beethoven\, Jolivet
DESCRIPTION:Haydn : Trumpet concerto\nBeethoven : Fantasy for piano\, chorus and orchestra op. 80\nJolivet : Concertino for trumpet\, piano and strings\n\nConductor : Daniel Tosi\nPiano : Antoine Ouvrard\nTrumpet : Clément Saulnier\nPerpignan-Méditerranée Chamber Orchestra
URL:https://ouvrardantoine.fr/en/event/festival-tautavel-en-musique-fantaisie-op-80-de-beethoven/
LOCATION:Tautavel\, Pyrénées Orientales\, 66720\, France
ORGANIZER;CN="Tautavel%20en%20Musique":MAILTO:contact@tautavelenmusique.fr 
END:VEVENT
END:VCALENDAR