BEGIN:VCALENDAR
VERSION:2.0
PRODID:-//Antoine Ouvrard - ECPv4.1.3//NONSGML v1.0//EN
CALSCALE:GREGORIAN
METHOD:PUBLISH
X-WR-CALNAME:Antoine Ouvrard
X-ORIGINAL-URL:https://ouvrardantoine.fr/en
X-WR-CALDESC:Events for Antoine Ouvrard
BEGIN:VEVENT
DTSTART;TZID=UTC+1:20170418T210000
DTEND;TZID=UTC+1:20170418T210000
DTSTAMP:20260422T023046
CREATED:20170306T223510
LAST-MODIFIED:20170306T223924
UID:492-1492549200-1492549200@ouvrardantoine.fr
SUMMARY:Lemon Fracas : from an Alice to another
DESCRIPTION:Musical show about texts by Lewis Carroll\nSongs by Poulenc\, Fauré\, Ravel\, Britten\, Bernstein\, Bolcom...\n\nAlice : Agathe de Courcy\nThe little girl : Sarah Dupont d'Isigny\nLewis Carroll : Olivier Mettais-Cartier\nThe fantasy-turtle : Sigrid Carré-Lecoindre\nThe mad hatter : Antoine Ouvrard
URL:https://ouvrardantoine.fr/en/event/lemon-fracas-from-an-alice-to-another-5/
LOCATION:77 rue de Montreuil\, Paris\, 75011\, France
END:VEVENT
END:VCALENDAR