BEGIN:VCALENDAR
VERSION:2.0
PRODID:-//Antoine Ouvrard - ECPv4.1.3//NONSGML v1.0//EN
CALSCALE:GREGORIAN
METHOD:PUBLISH
X-WR-CALNAME:Antoine Ouvrard
X-ORIGINAL-URL:https://ouvrardantoine.fr/en
X-WR-CALDESC:Events for Antoine Ouvrard
BEGIN:VEVENT
DTSTART;TZID=UTC+1:20170923T190000
DTEND;TZID=UTC+1:20170923T190000
DTSTAMP:20260421T181243
CREATED:20170718T085320
LAST-MODIFIED:20170913T202700
UID:546-1506193200-1506193200@ouvrardantoine.fr
SUMMARY:Lemon Fracas : The panther's tread is on the stairs
DESCRIPTION:Concert-lecture : Mais le tigre est déjà dans l'escalier\nafter Sylvia Plath : "Letters home"\n\nAnne Jeanvoine : actress\nAgathe de Courcy : mezzo\nAntoine Ouvrard : piano\nSigrid Carré-Lecoindre : staging
URL:https://ouvrardantoine.fr/en/event/lemon-fracas-mais-le-tigre-est-deja-dans-lescalier/
LOCATION:1\, rue Paul Mazy\, Ivry sur Seine\, Val de Marne\, 94200\, France
END:VEVENT
END:VCALENDAR