BEGIN:VCALENDAR
VERSION:2.0
PRODID:-//Antoine Ouvrard - ECPv4.1.3//NONSGML v1.0//EN
CALSCALE:GREGORIAN
METHOD:PUBLISH
X-WR-CALNAME:Antoine Ouvrard
X-ORIGINAL-URL:https://ouvrardantoine.fr/en
X-WR-CALDESC:Events for Antoine Ouvrard
BEGIN:VEVENT
DTSTART;TZID=UTC+1:20170310T200000
DTEND;TZID=UTC+1:20170310T200000
DTSTAMP:20260422T004446
CREATED:20170121T192836
LAST-MODIFIED:20170305T214009
UID:475-1489176000-1489176000@ouvrardantoine.fr
SUMMARY:Michel Legrand at Pleyel
DESCRIPTION:Michel Legrand : film musics\n\nEnsemble Mirage\nConductor : Mathieu Herzog
URL:https://ouvrardantoine.fr/en/event/michel-legrand-a-pleyel/
LOCATION:252 rue du Faubourg Saint Honoré\, Paris\, 75008\, France
END:VEVENT
END:VCALENDAR