BEGIN:VCALENDAR
VERSION:2.0
PRODID:-//Antoine Ouvrard - ECPv4.1.3//NONSGML v1.0//EN
CALSCALE:GREGORIAN
METHOD:PUBLISH
X-WR-CALNAME:Antoine Ouvrard
X-ORIGINAL-URL:https://ouvrardantoine.fr/en
X-WR-CALDESC:Events for Antoine Ouvrard
BEGIN:VEVENT
DTSTART;TZID=UTC+1:20170523T204500
DTEND;TZID=UTC+1:20170523T204500
DTSTAMP:20260421T210224
CREATED:20170504T205203
LAST-MODIFIED:20170504T205247
UID:510-1495572300-1495572300@ouvrardantoine.fr
SUMMARY:Fresh ink music : Bailly\, Pesson\, Schulhoff
DESCRIPTION:
URL:https://ouvrardantoine.fr/en/event/musiques-a-lencre-fraiche-bailly-pesson-schulhoff/
LOCATION:118\, avenue Gaston Vermeire\, Persan\, Val d'Oise\, 95340\, France
ORGANIZER;CN="Conservatoire%20%C3%A0%20Rayonnement%20Communal":MAILTO:crc-secretariat@ville-persan.fr
END:VEVENT
END:VCALENDAR