BEGIN:VCALENDAR
VERSION:2.0
PRODID:-//Antoine Ouvrard - ECPv4.1.3//NONSGML v1.0//EN
CALSCALE:GREGORIAN
METHOD:PUBLISH
X-WR-CALNAME:Antoine Ouvrard
X-ORIGINAL-URL:https://ouvrardantoine.fr/en
X-WR-CALDESC:Events for Antoine Ouvrard
BEGIN:VEVENT
DTSTART;TZID=UTC+1:20170311T090000
DTEND;TZID=UTC+1:20170311T090000
DTSTAMP:20260421T212940
CREATED:20170117T230948
LAST-MODIFIED:20170117T230948
UID:474-1489222800-1489222800@ouvrardantoine.fr
SUMMARY:"Portraits de famille" by Philippe Cassard : broadcast
DESCRIPTION:Broadcast of radio program "Portraits de famille" by Philippe Cassard on France Musique\n\nDurieux : Counting out time\nScriabin : Sonata n°10 op. 70
URL:https://ouvrardantoine.fr/en/event/portraits-de-famille-de-philippe-cassard-diffusion/
LOCATION:116 avenue du Président Kennedy\, Paris\, 75016\, France
END:VEVENT
END:VCALENDAR