BEGIN:VCALENDAR
VERSION:2.0
PRODID:-//Antoine Ouvrard - ECPv4.1.3//NONSGML v1.0//EN
CALSCALE:GREGORIAN
METHOD:PUBLISH
X-WR-CALNAME:Antoine Ouvrard
X-ORIGINAL-URL:https://ouvrardantoine.fr/en
X-WR-CALDESC:Events for Antoine Ouvrard
BEGIN:VEVENT
DTSTART;TZID=UTC+1:20160421T200000
DTEND;TZID=UTC+1:20160421T200000
DTSTAMP:20260422T045752
CREATED:20160403T075913
LAST-MODIFIED:20160515T104955
UID:72-1461268800-1461268800@ouvrardantoine.fr
SUMMARY:Récital de piano : autour des "Miroirs" de Maurice Ravel
DESCRIPTION:Haydn : Sonate pour piano Hob. XVI : 31\nTakemitsu : Les yeux clos\nFauré : Barcarolle n°3 op. 42\nLindberg : Twine\nRavel : Miroirs
URL:https://ouvrardantoine.fr/en/event/recital-de-piano/
LOCATION:Avenida Sud-Oest 49\, la Vall d'Uixo\, Castellon\, 12600\, Espagne
END:VEVENT
END:VCALENDAR