BEGIN:VCALENDAR
VERSION:2.0
PRODID:-//Antoine Ouvrard - ECPv4.1.3//NONSGML v1.0//EN
CALSCALE:GREGORIAN
METHOD:PUBLISH
X-WR-CALNAME:Antoine Ouvrard
X-ORIGINAL-URL:https://ouvrardantoine.fr/en
X-WR-CALDESC:Events for Antoine Ouvrard
BEGIN:VEVENT
DTSTART;TZID=UTC+1:20161001T190000
DTEND;TZID=UTC+1:20161001T190000
DTSTAMP:20260422T012348
CREATED:20160511T215239
LAST-MODIFIED:20160512T214701
UID:271-1475348400-1475348400@ouvrardantoine.fr
SUMMARY:"Sleep" : night concert around Andy Warhol's film
DESCRIPTION:Satie : Vexations\n\nPupils of Paris CRR and CNSM
URL:https://ouvrardantoine.fr/en/event/sleep-concert-autour-du-film-dandy-warhol/
LOCATION:221 avenue Jean Jaurès\, Paris\, 75019\, France
END:VEVENT
END:VCALENDAR