BEGIN:VCALENDAR
VERSION:2.0
PRODID:-//Antoine Ouvrard - ECPv4.1.3//NONSGML v1.0//EN
CALSCALE:GREGORIAN
METHOD:PUBLISH
X-WR-CALNAME:Antoine Ouvrard
X-ORIGINAL-URL:https://ouvrardantoine.fr/en
X-WR-CALDESC:Events for Antoine Ouvrard
BEGIN:VEVENT
DTSTART;TZID=UTC+1:20260530T200000
DTEND;TZID=UTC+1:20260530T200000
DTSTAMP:20260425T103600
CREATED:20260405T072744
LAST-MODIFIED:20260410T062640
UID:1380-1780171200-1780171200@ouvrardantoine.fr
SUMMARY:Tchaïkovski's violin concerto
DESCRIPTION:Baba : world premiere\nBartok : The Miraculous Mandarin\nTchaïkovski : Violin concerto\n\nViolin : Bomsori Kim\nConductor : Elena Schwatz\nMetz Grand Est National Orchestra
URL:https://ouvrardantoine.fr/en/event/le-concerto-pour-violon-de-tchaikovski/
LOCATION:3\, avenue Ney\, Metz\, Moselle\, 57000\, France
END:VEVENT
BEGIN:VEVENT
DTSTART;TZID=UTC+1:20260619T200000
DTEND;TZID=UTC+1:20260619T200000
DTSTAMP:20260425T103600
CREATED:20260410T062619
LAST-MODIFIED:20260410T062619
UID:1383-1781899200-1781899200@ouvrardantoine.fr
SUMMARY:Third Symphony by Saint Saëns
DESCRIPTION:Dukas : The Sorcerer's Apprentice\nPoulenc : Concerto for organ\, strings and timpani\nSaint Saëns : Symphony n°3\n\nConductor : David Reiland\nOrgan : Christian Schmitt\nMetz Grand Est National Orchestra
URL:https://ouvrardantoine.fr/en/event/la-symphonie-n3-de-saint-saens/
LOCATION:3\, avenue Ney\, Metz\, Moselle\, 57000\, France
END:VEVENT
END:VCALENDAR