BEGIN:VCALENDAR
VERSION:2.0
PRODID:-//Antoine Ouvrard - ECPv4.1.3//NONSGML v1.0//EN
CALSCALE:GREGORIAN
METHOD:PUBLISH
X-WR-CALNAME:Antoine Ouvrard
X-ORIGINAL-URL:https://ouvrardantoine.fr
X-WR-CALDESC:Events for Antoine Ouvrard
BEGIN:VEVENT
DTSTART;TZID=UTC+1:20170330T190000
DTEND;TZID=UTC+1:20170330T190000
DTSTAMP:20260422T014044
CREATED:20170216T193313
LAST-MODIFIED:20170317T062429
UID:481-1490900400-1490900400@ouvrardantoine.fr
SUMMARY:Atelier de composition : créations pour ensemble
DESCRIPTION:Bastien David : Nuées d'encre\, pour piano préparé\, harpe préparée et ensemble
URL:https://ouvrardantoine.fr/event/atelier-de-composition-creations-pour-ensemble/
LOCATION:209 avenue Jean Jaurès\, Paris\, 75019\, France
END:VEVENT
END:VCALENDAR