BEGIN:VCALENDAR
VERSION:2.0
PRODID:-//Antoine Ouvrard - ECPv4.1.3//NONSGML v1.0//EN
CALSCALE:GREGORIAN
METHOD:PUBLISH
X-WR-CALNAME:Antoine Ouvrard
X-ORIGINAL-URL:https://ouvrardantoine.fr
X-WR-CALDESC:Events for Antoine Ouvrard
BEGIN:VEVENT
DTSTART;TZID=UTC+1:20180420T200000
DTEND;TZID=UTC+1:20180420T200000
DTSTAMP:20260421T092634
CREATED:20180325T174527
LAST-MODIFIED:20180325T174527
UID:662-1524254400-1524254400@ouvrardantoine.fr
SUMMARY:Chœur de femmes et piano
DESCRIPTION:Œuvres de Fauré\, Franck\, Rossini\, Rachmaninov\, Berlioz\, Poulenc\, Lutoslawski...\n\nA Tre Voci\nDirection : Katherine Durouchoux\nPiano : Antoine Ouvrard
URL:https://ouvrardantoine.fr/event/choeur-de-femmes-et-piano-2/
LOCATION:Florianska 3\, Varsovie\, 00-001\, Pologne
END:VEVENT
END:VCALENDAR