BEGIN:VCALENDAR
VERSION:2.0
PRODID:-//Antoine Ouvrard - ECPv4.1.3//NONSGML v1.0//EN
CALSCALE:GREGORIAN
METHOD:PUBLISH
X-WR-CALNAME:Antoine Ouvrard
X-ORIGINAL-URL:https://ouvrardantoine.fr
X-WR-CALDESC:Events for Antoine Ouvrard
BEGIN:VEVENT
DTSTART;TZID=UTC+1:20161210T190000
DTEND;TZID=UTC+1:20161210T190000
DTSTAMP:20260421T232136
CREATED:20161004T222211
LAST-MODIFIED:20161205T072846
UID:409-1481396400-1481396400@ouvrardantoine.fr
SUMMARY:Cinéma Le Balzac : avant-séance musicale
DESCRIPTION:Fauré : Berceuse op. 16\nDebussy : Sonate pour violon et piano\n\nViolon : Rachel Koblyakov\nPiano : Antoine Ouvrard
URL:https://ouvrardantoine.fr/event/cinema-balzac-before-screening/
LOCATION:1 rue Balzac\, Paris\, 75008\, France
END:VEVENT
END:VCALENDAR