BEGIN:VCALENDAR
VERSION:2.0
PRODID:-//Antoine Ouvrard - ECPv4.1.3//NONSGML v1.0//EN
CALSCALE:GREGORIAN
METHOD:PUBLISH
X-WR-CALNAME:Antoine Ouvrard
X-ORIGINAL-URL:https://ouvrardantoine.fr
X-WR-CALDESC:Events for Antoine Ouvrard
BEGIN:VEVENT
DTSTART;TZID=UTC+1:20170728T203000
DTEND;TZID=UTC+1:20170728T203000
DTSTAMP:20260421T162450
CREATED:20160920T163938
LAST-MODIFIED:20170205T081512
UID:393-1501273800-1501273800@ouvrardantoine.fr
SUMMARY:Concert de l'Atelier d'Art Vocal
DESCRIPTION:Mélodies\, airs et chœurs de Händel\, Mozart\, Schubert\, Schumann\, Mendelssohn\, Tchaïkovski\, Fauré\, Tosti...
URL:https://ouvrardantoine.fr/event/concert-by-atelier-dart-vocal/
LOCATION:16 rue aux Raz\, Autun\, Saône et Loire\, 71400\, France
END:VEVENT
END:VCALENDAR