BEGIN:VCALENDAR
VERSION:2.0
PRODID:-//Antoine Ouvrard - ECPv4.1.3//NONSGML v1.0//EN
CALSCALE:GREGORIAN
METHOD:PUBLISH
X-WR-CALNAME:Antoine Ouvrard
X-ORIGINAL-URL:https://ouvrardantoine.fr
X-WR-CALDESC:Events for Antoine Ouvrard
BEGIN:VEVENT
DTSTART;TZID=UTC+1:20160616T210000
DTEND;TZID=UTC+1:20160616T210000
DTSTAMP:20260422T000128
CREATED:20160511T115749
LAST-MODIFIED:20160613T204452
UID:249-1466110800-1466110800@ouvrardantoine.fr
SUMMARY:Concert en quatuor avec piano : Mozart\, Enesco\, Schumann
DESCRIPTION:Mozart : Duo pour violon et alto K. 423\nEnesco : Aubade\, pour trio à cordes\nSchumann : Quatuor pour piano et cordes op. 47\n\nViolon : Rachel Koblyakov\nAlto : Ieva Sruogyte\nVioloncelle : Raphaël Unger\nPiano : Antoine Ouvrard\n\nEnvoyez-moi un message pour obtenir une invitation.
URL:https://ouvrardantoine.fr/event/concert-en-quatuor-avec-piano/
LOCATION:Paris\, 75014\, France
END:VEVENT
END:VCALENDAR