BEGIN:VCALENDAR
VERSION:2.0
PRODID:-//Antoine Ouvrard - ECPv4.1.3//NONSGML v1.0//EN
CALSCALE:GREGORIAN
METHOD:PUBLISH
X-WR-CALNAME:Antoine Ouvrard
X-ORIGINAL-URL:https://ouvrardantoine.fr
X-WR-CALDESC:Events for Antoine Ouvrard
BEGIN:VEVENT
DTSTART;TZID=UTC+1:20170511T123000
DTEND;TZID=UTC+1:20170511T123000
DTSTAMP:20260421T235810
CREATED:20160412T205106
LAST-MODIFIED:20170402T214251
UID:137-1494505800-1494505800@ouvrardantoine.fr
SUMMARY:"Between Tides" (Entre les marées) : pièces contemporaines en trio
DESCRIPTION:Takemitsu : Between tides\nMurphy : Give me Phoenix wings to fly\nCarter : Epigrammes\nFauré : Trio op. 120\n\nViolon : Rachel Koblyakov\n Violoncelle : Cameron Crozman\n Piano : Antoine Ouvrard
URL:https://ouvrardantoine.fr/event/concert-en-trio/
LOCATION:avenue Winston Churchill\, Paris\, 75008\, France
END:VEVENT
END:VCALENDAR