BEGIN:VCALENDAR
VERSION:2.0
PRODID:-//Antoine Ouvrard - ECPv4.1.3//NONSGML v1.0//EN
CALSCALE:GREGORIAN
METHOD:PUBLISH
X-WR-CALNAME:Antoine Ouvrard
X-ORIGINAL-URL:https://ouvrardantoine.fr
X-WR-CALDESC:Events for Antoine Ouvrard
BEGIN:VEVENT
DTSTART;TZID=UTC+1:20180329T190000
DTEND;TZID=UTC+1:20180329T190000
DTSTAMP:20260421T135446
CREATED:20171215T202211
LAST-MODIFIED:20180325T155343
UID:575-1522350000-1522350000@ouvrardantoine.fr
SUMMARY:Concert pour le centenaire de Claude Debussy
DESCRIPTION:Debussy : Etudes\nHeng Chen : S(on-air)te pour cor\, hautbois et clavecin (création mondiale)\nAlex Nante : Les soirs incertains\, pour trompette\, clarinette\, basson et piano (création mondiale)\nThéodore Lambert : Fragments épars\, pour 13 instruments (création mondiale)\n\nFlorent Boffard : direction musicale
URL:https://ouvrardantoine.fr/event/concert-pour-le-centenaire-de-claude-debussy/
LOCATION:209 avenue Jean Jaurès\, Paris\, 75019\, France
END:VEVENT
END:VCALENDAR