BEGIN:VCALENDAR
VERSION:2.0
PRODID:-//Antoine Ouvrard - ECPv4.1.3//NONSGML v1.0//EN
CALSCALE:GREGORIAN
METHOD:PUBLISH
X-WR-CALNAME:Antoine Ouvrard
X-ORIGINAL-URL:https://ouvrardantoine.fr
X-WR-CALDESC:Events for Antoine Ouvrard
BEGIN:VEVENT
DTSTART;TZID=UTC+1:20180206T200000
DTEND;TZID=UTC+1:20180206T200000
DTSTAMP:20260421T135654
CREATED:20171211T071404
LAST-MODIFIED:20171229T082340
UID:573-1517947200-1517947200@ouvrardantoine.fr
SUMMARY:Ensemble Atmusica : musique anglaise pour violoncelle et piano
DESCRIPTION:Chauris : Monologue\, pour violoncelle et piano\nBenjamin : Fantasy on iambic rhythm\, pour piano\nBritten : Suite n°1 op. 72\, pour violoncelle\nAdès : Darkness Visible\, pour piano\nBirtwistle : Lied\, pour violoncelle et piano\n\nDelphine Biron : violoncelle\nAntoine Ouvrard : piano
URL:https://ouvrardantoine.fr/event/ensemble-atmusica-musique-anglaise-pour-violoncelle-et-piano/
LOCATION:15\, place de Châteauneuf\, Tours\, Indre-et-Loire\, 37000\, France
END:VEVENT
END:VCALENDAR