BEGIN:VCALENDAR
VERSION:2.0
PRODID:-//Antoine Ouvrard - ECPv4.1.3//NONSGML v1.0//EN
CALSCALE:GREGORIAN
METHOD:PUBLISH
X-WR-CALNAME:Antoine Ouvrard
X-ORIGINAL-URL:https://ouvrardantoine.fr
X-WR-CALDESC:Events for Antoine Ouvrard
BEGIN:VEVENT
DTSTART;TZID=UTC+1:20160904T170000
DTEND;TZID=UTC+1:20160904T170000
DTSTAMP:20260421T194511
CREATED:20160816T103613
LAST-MODIFIED:20160818T212351
UID:372-1473008400-1473008400@ouvrardantoine.fr
SUMMARY:Ensemble Cartésixte : Hommage à Dutilleux et Bonnefoy
DESCRIPTION:Fauré : Sicilienne (extrait de Pelléas et Mélisande)\nDebussy : Prélude à l'après-midi d'un faune\, La cathédrale engloutie\, Rhapsodie pour clarinette et piano\nRavel : Le jardin féérique\nPoulenc : L'embarquement pour Cythère\, Priez pour paix\nDutilleux : Au gré des ondes (extraits)\, Trois strophes sur le nom de Sacher\n\nPoèmes d'Yves Bonnefoy\n\nDirection : Simon Proust 
URL:https://ouvrardantoine.fr/event/ensemble-cartesixte/
LOCATION:Rue Saint Martin\, Candes Saint Martin\, Indre-et-Loire\, 37500\, France
END:VEVENT
END:VCALENDAR