BEGIN:VCALENDAR
VERSION:2.0
PRODID:-//Antoine Ouvrard - ECPv4.1.3//NONSGML v1.0//EN
CALSCALE:GREGORIAN
METHOD:PUBLISH
X-WR-CALNAME:Antoine Ouvrard
X-ORIGINAL-URL:https://ouvrardantoine.fr
X-WR-CALDESC:Events for Antoine Ouvrard
BEGIN:VEVENT
DTSTART;TZID=UTC+1:20160731T110000
DTEND;TZID=UTC+1:20160731T110000
DTSTAMP:20260421T201832
CREATED:20160403T161614
LAST-MODIFIED:20160825T172104
UID:83-1469962800-1469962800@ouvrardantoine.fr
SUMMARY:Festival Messiaen au Pays de la Meije : récital à 2 pianos
DESCRIPTION:Kurtag : Jatekok (extraits)\nAmy : Obliques III\nAttahir : D’ouvrir les yeux pour fixer le kaléidoscope de l’obscurité (création mondiale)\nSeltenreich : Schanïm (création mondiale)\nAmy : Obliques I\nDebussy : En blanc et noir\n\nPiano : Julien Blanc\, Justine Leroux\, Antoine Ouvrard
URL:https://ouvrardantoine.fr/event/festival-messiaen-au-pays-de-la-meije-recital-a-2-pianos/
LOCATION:La Grave\, Hautes-Alpes\, 05320\, France
END:VEVENT
END:VCALENDAR