BEGIN:VCALENDAR
VERSION:2.0
PRODID:-//Antoine Ouvrard - ECPv4.1.3//NONSGML v1.0//EN
CALSCALE:GREGORIAN
METHOD:PUBLISH
X-WR-CALNAME:Antoine Ouvrard
X-ORIGINAL-URL:https://ouvrardantoine.fr
X-WR-CALDESC:Events for Antoine Ouvrard
BEGIN:VEVENT
DTSTART;TZID=UTC+1:20170514T110000
DTEND;TZID=UTC+1:20170514T110000
DTSTAMP:20260421T214803
CREATED:20170507T083743
LAST-MODIFIED:20170507T083743
UID:513-1494759600-1494759600@ouvrardantoine.fr
SUMMARY:Festival Tautavel en Musique : concert surprise
DESCRIPTION:
URL:https://ouvrardantoine.fr/event/festival-tautavel-en-musique-concert-surprise/
LOCATION:Tautavel\, Pyrénées Orientales\, 66720\, France
ORGANIZER;CN="Tautavel%20en%20Musique":MAILTO:contact@tautavelenmusique.fr 
END:VEVENT
END:VCALENDAR