BEGIN:VCALENDAR
VERSION:2.0
PRODID:-//Antoine Ouvrard - ECPv4.1.3//NONSGML v1.0//EN
CALSCALE:GREGORIAN
METHOD:PUBLISH
X-WR-CALNAME:Antoine Ouvrard
X-ORIGINAL-URL:https://ouvrardantoine.fr
X-WR-CALDESC:Events for Antoine Ouvrard
BEGIN:VEVENT
DTSTART;TZID=UTC+1:20160627T170000
DTEND;TZID=UTC+1:20160627T170000
DTSTAMP:20260421T220757
CREATED:20160416T070558
LAST-MODIFIED:20160826T170632
UID:145-1467046800-1467046800@ouvrardantoine.fr
SUMMARY:Piano à Collioure : Liszt\, Durieux\, Scriabin
DESCRIPTION:Scriabin : Sonate n°10 op. 70\nDurieux : Counting out time (création mondiale)\nLiszt : Vallée d'Obermann
URL:https://ouvrardantoine.fr/event/journees-du-piano/
LOCATION:13 rue Jules Michelet\, Collioure\, Pyrénées Orientales\, 66190\, France
END:VEVENT
END:VCALENDAR