BEGIN:VCALENDAR
VERSION:2.0
PRODID:-//Antoine Ouvrard - ECPv4.1.3//NONSGML v1.0//EN
CALSCALE:GREGORIAN
METHOD:PUBLISH
X-WR-CALNAME:Antoine Ouvrard
X-ORIGINAL-URL:https://ouvrardantoine.fr
X-WR-CALDESC:Events for Antoine Ouvrard
BEGIN:VEVENT
DTSTART;TZID=UTC+1:20170212T170000
DTEND;TZID=UTC+1:20170212T170000
DTSTAMP:20260422T014614
CREATED:20161010T192649
LAST-MODIFIED:20170108T221152
UID:416-1486918800-1486918800@ouvrardantoine.fr
SUMMARY:Lemon Fracas : d'une Alice à l'autre
DESCRIPTION:Spectacle musical autour de textes de Lewis Carroll\nMusique de Poulenc\, Fauré\, Ravel\, Britten\, Bernstein\, Bolcom\n\nAlice : Agathe de Courcy\nLa petite fille : Sarah Dupont d'Isigny\nLewis Carroll : Olivier Mettais-Cartier\nLa tortue-fantaisie : Sigrid Carré-Lecoindre\nLe chapelier : Antoine Ouvrard
URL:https://ouvrardantoine.fr/event/lemon-fracas-from-an-alice-to-another-2/
LOCATION:77 rue de Montreuil\, Paris\, 75011\, France
END:VEVENT
END:VCALENDAR