BEGIN:VCALENDAR
VERSION:2.0
PRODID:-//Antoine Ouvrard - ECPv4.1.3//NONSGML v1.0//EN
CALSCALE:GREGORIAN
METHOD:PUBLISH
X-WR-CALNAME:Antoine Ouvrard
X-ORIGINAL-URL:https://ouvrardantoine.fr
X-WR-CALDESC:Events for Antoine Ouvrard
BEGIN:VEVENT
DTSTART;TZID=UTC+1:20171216T140000
DTEND;TZID=UTC+1:20171216T140000
DTSTAMP:20260421T154148
CREATED:20171003T200401
LAST-MODIFIED:20171113T220550
UID:566-1513432800-1513432800@ouvrardantoine.fr
SUMMARY:Once upon a time... : atelier de théâtre musical
DESCRIPTION:Œuvres de Cage\, Kurtag\, Aperghis\, Kagel\, Toch\, Sarhan\, Reich\, Johnson\n\nGladys Ledoux : violon\nRachel Korenhof : alto\nAurianne Bec : flûte\nCannelle Carré-Cassaigne : hautbois\nIrina Leach\, Laurie Lepoutre\, Lucie Boucher : piano\nFerdinand Jacob : vibraphone\nAntoine Ouvrard : direction artistique
URL:https://ouvrardantoine.fr/event/once-upon-a-time-initiation-au-theatre-musical/
LOCATION:16\, rue Nicolas Fortin\, Paris\, 75013\, France
ORGANIZER;CN="Conservatoire%20Maurice%20Ravel":MAILTO:conservatoire13@paris.fr
END:VEVENT
END:VCALENDAR