BEGIN:VCALENDAR
VERSION:2.0
PRODID:-//Antoine Ouvrard - ECPv4.1.3//NONSGML v1.0//EN
CALSCALE:GREGORIAN
METHOD:PUBLISH
X-WR-CALNAME:Antoine Ouvrard
X-ORIGINAL-URL:https://ouvrardantoine.fr
X-WR-CALDESC:Events for Antoine Ouvrard
BEGIN:VEVENT
DTSTART;TZID=UTC+1:20180325T110000
DTEND;TZID=UTC+1:20180325T110000
DTSTAMP:20260421T154358
CREATED:20170525T162451
LAST-MODIFIED:20180312T165628
UID:534-1521975600-1521975600@ouvrardantoine.fr
SUMMARY:Opéra du Jour : Bastien et Bastienne
DESCRIPTION:Mozart : Bastien et Bastienne\n\nRémi Peloso : Bastien\nLaetitia Ayrès : Bastienne\nBaptiste Jorre : Colas\nAntoine Ouvrard : Mozart\nAnnie Paradis et Isabelle Du Boucher : mise en scène
URL:https://ouvrardantoine.fr/event/opera-du-jour-bastien-et-bastienne-3/
LOCATION:5\, rue des Vignes\, Paris\, 75016\, France
ORGANIZER;CN="Op%C3%A9ra%20du%20jour":MAILTO:operadujour@gmail.com
END:VEVENT
END:VCALENDAR