BEGIN:VCALENDAR
VERSION:2.0
PRODID:-//Antoine Ouvrard - ECPv4.1.3//NONSGML v1.0//EN
CALSCALE:GREGORIAN
METHOD:PUBLISH
X-WR-CALNAME:Antoine Ouvrard
X-ORIGINAL-URL:https://ouvrardantoine.fr
X-WR-CALDESC:Events for Antoine Ouvrard
BEGIN:VEVENT
DTSTART;TZID=UTC+1:20160422T200000
DTEND;TZID=UTC+1:20160422T200000
DTSTAMP:20260422T014123
CREATED:20160403T080114
LAST-MODIFIED:20160515T105031
UID:75-1461355200-1461355200@ouvrardantoine.fr
SUMMARY:Récital de piano : autour des "Miroirs" de Maurice Ravel
DESCRIPTION:Haydn : Sonate pour piano Hob. XVI : 31\nTakemitsu : Les yeux clos\nFauré : Barcarolle n°3 op. 42\nLindberg : Twine\nRavel : Miroirs
URL:https://ouvrardantoine.fr/event/recital-de-piano-2/
LOCATION:Calle Moro Zeit 6\, Valencia\, 46001\, Espagne
END:VEVENT
END:VCALENDAR