BEGIN:VCALENDAR
VERSION:2.0
PRODID:-//Antoine Ouvrard - ECPv4.1.3//NONSGML v1.0//EN
CALSCALE:GREGORIAN
METHOD:PUBLISH
X-WR-CALNAME:Antoine Ouvrard
X-ORIGINAL-URL:https://ouvrardantoine.fr
X-WR-CALDESC:Events for Antoine Ouvrard
BEGIN:VEVENT
DTSTART;TZID=UTC+1:20171126T170000
DTEND;TZID=UTC+1:20171126T170000
DTSTAMP:20260421T183032
CREATED:20161208T234648
LAST-MODIFIED:20170919T184145
UID:442-1511715600-1511715600@ouvrardantoine.fr
SUMMARY:Récital solo : Debussy\, Visvikis\, Messiaen
DESCRIPTION:Debussy : Images (1er cahier)\nVisvikis : Offrandes\nVisvikis : Eclampsis I\nMessiaen : 8 Préludes
URL:https://ouvrardantoine.fr/event/recital-solo-debussy-visvikis-messiaen/
LOCATION:13\, rue Dauvilliers\, Arpajon\, Essonne\, 91920\, France
END:VEVENT
END:VCALENDAR