BEGIN:VCALENDAR
VERSION:2.0
PRODID:-//Antoine Ouvrard - ECPv4.1.3//NONSGML v1.0//EN
CALSCALE:GREGORIAN
METHOD:PUBLISH
X-WR-CALNAME:Antoine Ouvrard
X-ORIGINAL-URL:https://ouvrardantoine.fr
X-WR-CALDESC:Events for Antoine Ouvrard
BEGIN:VEVENT
DTSTART;TZID=UTC+1:20180320T183000
DTEND;TZID=UTC+1:20180320T183000
DTSTAMP:20260421T142627
CREATED:20180216T083701
LAST-MODIFIED:20180325T155405
UID:612-1521570600-1521570600@ouvrardantoine.fr
SUMMARY:Récital violon/piano : Franck\, Brahms
DESCRIPTION:Franck : Sonate pour violon et piano\nBrahms : Sonate pour violon et piano n°1 op. 78\n\nViolon : Julie Bendersky\nPiano : Antoine Ouvrard
URL:https://ouvrardantoine.fr/event/recital-violonpiano-franck-brahms/
LOCATION:1\, rue des Joglars\, Perpignan\, Pyrénées Orientales\, 66100\, France
END:VEVENT
END:VCALENDAR